BEGIN:VCALENDAR
VERSION:2.0
PRODID:-//NextHealth – Veränderungsmanagement und Strategieentwicklung - ECPv6.15.13//NONSGML v1.0//EN
CALSCALE:GREGORIAN
METHOD:PUBLISH
X-ORIGINAL-URL:https://nexthealth.de
X-WR-CALDESC:Veranstaltungen für NextHealth – Veränderungsmanagement und Strategieentwicklung
REFRESH-INTERVAL;VALUE=DURATION:PT1H
X-Robots-Tag:noindex
X-PUBLISHED-TTL:PT1H
BEGIN:VTIMEZONE
TZID:Europe/Berlin
BEGIN:DAYLIGHT
TZOFFSETFROM:+0100
TZOFFSETTO:+0200
TZNAME:CEST
DTSTART:20200329T010000
END:DAYLIGHT
BEGIN:STANDARD
TZOFFSETFROM:+0200
TZOFFSETTO:+0100
TZNAME:CET
DTSTART:20201025T010000
END:STANDARD
BEGIN:DAYLIGHT
TZOFFSETFROM:+0100
TZOFFSETTO:+0200
TZNAME:CEST
DTSTART:20210328T010000
END:DAYLIGHT
BEGIN:STANDARD
TZOFFSETFROM:+0200
TZOFFSETTO:+0100
TZNAME:CET
DTSTART:20211031T010000
END:STANDARD
BEGIN:DAYLIGHT
TZOFFSETFROM:+0100
TZOFFSETTO:+0200
TZNAME:CEST
DTSTART:20220327T010000
END:DAYLIGHT
BEGIN:STANDARD
TZOFFSETFROM:+0200
TZOFFSETTO:+0100
TZNAME:CET
DTSTART:20221030T010000
END:STANDARD
END:VTIMEZONE
BEGIN:VEVENT
DTSTART;TZID=Europe/Berlin:20210325T130000
DTEND;TZID=Europe/Berlin:20210325T132000
DTSTAMP:20260426T032907
CREATED:20210212T134320Z
LAST-MODIFIED:20210312T161509Z
UID:5204-1616677200-1616678400@nexthealth.de
SUMMARY:KlinikManagementPersonal 2021 - Die Veranstaltungsreihe für Personalgestalter
DESCRIPTION:Unser Themenfeld: &#8222;Change-Coaching&#8220;\nInnerhalb unseres zweiten Themenfeldes der Veranstaltungsreihe widmet sich Dr. med. Stefan Drauschke dem &#8222;Change-Coaching&#8220;. Dabei geht er auf die notwendigen Kompetenzen und die verschiedenen Rollen und Aufgaben eines Change-Coaches in einem Changeprozess ein. Erfahren Sie\, wie vielfältig diese sein können und warum ein Change-Coach für den Erfolg eines Changeprozesses notwendig und hilfreich ist. Erfahren Sie mehr und lesen Sie den von Dr. med. Stefan Drauschke gemeinsam mit Dipl. Vw. Pia Drauschke veröffentlichten Beitrag in der KU Gesundheistmanagement im Dezember 2020. \nFür Abonnenten unseres kostenlosen Change-Briefes stellen wir ein Kontingent an Freikarten zur KlinikManagmentPersonal am 25.03.2021 zur Verfügung. Folgen Sie dafür einfach dem Link zur Change-Brief Anmeldung und ebnen Sie damit den Weg zu Ihrer Freikarte und zu regelmäßigen\, informativen und kostenlosen Texten rund um Kommunikation\, Führung und Changemanagement.\nSie sind noch kein Abonnent? Dann melden Sie sich noch heute hier an. \nÜbersicht der Themenfelder
URL:https://nexthealth.de/veranstaltung/klinikmanagementpersonal-2021-die-veranstaltungsreihe-fuer-personalgestalter-2/
CATEGORIES:öffentliche Termine
END:VEVENT
BEGIN:VEVENT
DTSTART;TZID=Europe/Berlin:20210325T130000
DTEND;TZID=Europe/Berlin:20210325T132000
DTSTAMP:20260426T032907
CREATED:20210212T134320Z
LAST-MODIFIED:20210212T134320Z
UID:11378-1616677200-1616678400@nexthealth.de
SUMMARY:KlinikManagementPersonal 2021 - Die Veranstaltungsreihe für Personalgestalter
DESCRIPTION:Unser Themenfeld: &#8222;Change-Coaching&#8220;\nInnerhalb unseres zweiten Themenfeldes der Veranstaltungsreihe widmet sich Dr. med. Stefan Drauschke dem &#8222;Change-Coaching&#8220;. Dabei geht er auf die notwendigen Kompetenzen und die verschiedenen Rollen und Aufgaben eines Change-Coaches in einem Changeprozess ein. Erfahren Sie\, wie vielfältig diese sein können und warum ein Change-Coach für den Erfolg eines Changeprozesses notwendig und hilfreich ist. Erfahren Sie mehr und lesen Sie den von Dr. med. Stefan Drauschke gemeinsam mit Dipl. Vw. Pia Drauschke veröffentlichten Beitrag in der KU Gesundheistmanagement im Dezember 2020. \nFür Abonnenten unseres kostenlosen Change-Briefes stellen wir ein Kontingent an Freikarten zur KlinikManagmentPersonal am 25.03.2021 zur Verfügung. Folgen Sie dafür einfach dem Link zur Change-Brief Anmeldung und ebnen Sie damit den Weg zu Ihrer Freikarte und zu regelmäßigen\, informativen und kostenlosen Texten rund um Kommunikation\, Führung und Changemanagement.\nSie sind noch kein Abonnent? Dann melden Sie sich noch heute hier an. \nÜbersicht der Themenfelder
URL:https://nexthealth.de/veranstaltung/klinikmanagementpersonal-2021-die-veranstaltungsreihe-fuer-personalgestalter-2-2/
CATEGORIES:öffentliche Termine
END:VEVENT
END:VCALENDAR