BEGIN:VCALENDAR
VERSION:2.0
PRODID:-//NextHealth – Veränderungsmanagement und Strategieentwicklung - ECPv6.15.13//NONSGML v1.0//EN
CALSCALE:GREGORIAN
METHOD:PUBLISH
X-WR-CALNAME:NextHealth – Veränderungsmanagement und Strategieentwicklung
X-ORIGINAL-URL:https://nexthealth.de
X-WR-CALDESC:Veranstaltungen für NextHealth – Veränderungsmanagement und Strategieentwicklung
REFRESH-INTERVAL;VALUE=DURATION:PT1H
X-Robots-Tag:noindex
X-PUBLISHED-TTL:PT1H
BEGIN:VTIMEZONE
TZID:Europe/Berlin
BEGIN:DAYLIGHT
TZOFFSETFROM:+0100
TZOFFSETTO:+0200
TZNAME:CEST
DTSTART:20200329T010000
END:DAYLIGHT
BEGIN:STANDARD
TZOFFSETFROM:+0200
TZOFFSETTO:+0100
TZNAME:CET
DTSTART:20201025T010000
END:STANDARD
BEGIN:DAYLIGHT
TZOFFSETFROM:+0100
TZOFFSETTO:+0200
TZNAME:CEST
DTSTART:20210328T010000
END:DAYLIGHT
BEGIN:STANDARD
TZOFFSETFROM:+0200
TZOFFSETTO:+0100
TZNAME:CET
DTSTART:20211031T010000
END:STANDARD
BEGIN:DAYLIGHT
TZOFFSETFROM:+0100
TZOFFSETTO:+0200
TZNAME:CEST
DTSTART:20220327T010000
END:DAYLIGHT
BEGIN:STANDARD
TZOFFSETFROM:+0200
TZOFFSETTO:+0100
TZNAME:CET
DTSTART:20221030T010000
END:STANDARD
END:VTIMEZONE
BEGIN:VEVENT
DTSTART;TZID=Europe/Berlin:20210415T150000
DTEND;TZID=Europe/Berlin:20210415T163000
DTSTAMP:20260426T020118
CREATED:20210401T074248Z
LAST-MODIFIED:20210401T080805Z
UID:5334-1618498800-1618504200@nexthealth.de
SUMMARY:Unser Webinar mit dem Bundesverband  Gesundheits IT (BVITG) auf dessen Lernplattform xptise: Das Krankenhauszukunftsgesetz (KHZG) - Impuls für die digitale Transformation
DESCRIPTION:Teil 2 der dreiteiligen Reihe:  \nAntragstellung aus Sicht der Krankenhäuser und der Industrie &#8211; Was gilt es zu beachten\, was ist wichtig\, wie geht man vor.\n \nDas Krankenhauszukunftsgesetz (KHZG) ist eine einmalige und interessante Möglichkeit den Digitalisierungsprozess in Ihrer Klinik mit reichlich Geld zu fördern. Das Schwesterunternehmen der NextHealth\, die GÖK Consulting GmbH\, berät bereits deutschlandweit Kliniken bei der Entwicklung von Digitalisierungsstrategien und der Erarbeitung der Förderanträge im Rahmen des KHZG. Es geht dabei weniger um IT\, sondern um bessere Medizin\, Prozessoptimierung und digitale Transformation einschließlich dem damit verbundenen Cultural Change &#8211; das Spezialgebiet der NextHealth. \nDie Herausforderungen\, die das Antragsverfahren dieses herausfordernden Investitionsprogamms bietet\, sind uns daher eingehend bekannt. In dem 3-teiligen Webinar von xptise gehen wir auf die wichtigsten Fragestellungen ein. \nHIER erhalten Sie nähere Informationen zu diesem kostenpflichtigen Webinar und /oder melden sich an. Der erste Teil fand bereits am 13. April statt. Der dritte Teil wird am 20. April von 15.00 bis 16.30 Uhr folgen. \nGerne beraten wir Sie auch persönlich. Schreiben Sie uns dafür per Mail unter info@b3w8yy.myraidbox.de  oder info@goek-consulting.de oder rufen Sie uns an 030 &#8211; 351 99 603.
URL:https://nexthealth.de/veranstaltung/unser-webinar-mit-dem-bundesverband-gesundheits-it-bvitg-auf-dessen-lernplattform-xptise/
END:VEVENT
BEGIN:VEVENT
DTSTART;TZID=Europe/Berlin:20210415T150000
DTEND;TZID=Europe/Berlin:20210415T163000
DTSTAMP:20260426T020118
CREATED:20210401T074248Z
LAST-MODIFIED:20210401T074248Z
UID:11381-1618498800-1618504200@nexthealth.de
SUMMARY:Unser Webinar mit dem Bundesverband  Gesundheits IT (BVITG) auf dessen Lernplattform xptise: Das Krankenhauszukunftsgesetz (KHZG) - Impuls für die digitale Transformation
DESCRIPTION:Teil 2 der dreiteiligen Reihe:  \nAntragstellung aus Sicht der Krankenhäuser und der Industrie &#8211; Was gilt es zu beachten\, was ist wichtig\, wie geht man vor.\n \nDas Krankenhauszukunftsgesetz (KHZG) ist eine einmalige und interessante Möglichkeit den Digitalisierungsprozess in Ihrer Klinik mit reichlich Geld zu fördern. Das Schwesterunternehmen der NextHealth\, die GÖK Consulting GmbH\, berät bereits deutschlandweit Kliniken bei der Entwicklung von Digitalisierungsstrategien und der Erarbeitung der Förderanträge im Rahmen des KHZG. Es geht dabei weniger um IT\, sondern um bessere Medizin\, Prozessoptimierung und digitale Transformation einschließlich dem damit verbundenen Cultural Change &#8211; das Spezialgebiet der NextHealth. \nDie Herausforderungen\, die das Antragsverfahren dieses herausfordernden Investitionsprogamms bietet\, sind uns daher eingehend bekannt. In dem 3-teiligen Webinar von xptise gehen wir auf die wichtigsten Fragestellungen ein. \nHIER erhalten Sie nähere Informationen zu diesem kostenpflichtigen Webinar und /oder melden sich an. Der erste Teil fand bereits am 13. April statt. Der dritte Teil wird am 20. April von 15.00 bis 16.30 Uhr folgen. \nGerne beraten wir Sie auch persönlich. Schreiben Sie uns dafür per Mail unter info@nexthealth.de  oder info@goek-consulting.de oder rufen Sie uns an 030 &#8211; 351 99 603.
URL:https://nexthealth.de/veranstaltung/unser-webinar-mit-dem-bundesverband-gesundheits-it-bvitg-auf-dessen-lernplattform-xptise-2/
END:VEVENT
END:VCALENDAR