BEGIN:VCALENDAR
VERSION:2.0
PRODID:-//NextHealth â€“Â VerÃ¤nderungsmanagement und Strategieentwicklung - ECPv6.15.13//NONSGML v1.0//EN
CALSCALE:GREGORIAN
METHOD:PUBLISH
X-WR-CALNAME:NextHealth â€“Â VerÃ¤nderungsmanagement und Strategieentwicklung
X-ORIGINAL-URL:https://nexthealth.de
X-WR-CALDESC:Veranstaltungen fÃ¼r NextHealth â€“Â VerÃ¤nderungsmanagement und Strategieentwicklung
REFRESH-INTERVAL;VALUE=DURATION:PT1H
X-Robots-Tag:noindex
X-PUBLISHED-TTL:PT1H
BEGIN:VTIMEZONE
TZID:Europe/Berlin
BEGIN:DAYLIGHT
TZOFFSETFROM:+0100
TZOFFSETTO:+0200
TZNAME:CEST
DTSTART:20200329T010000
END:DAYLIGHT
BEGIN:STANDARD
TZOFFSETFROM:+0200
TZOFFSETTO:+0100
TZNAME:CET
DTSTART:20201025T010000
END:STANDARD
BEGIN:DAYLIGHT
TZOFFSETFROM:+0100
TZOFFSETTO:+0200
TZNAME:CEST
DTSTART:20210328T010000
END:DAYLIGHT
BEGIN:STANDARD
TZOFFSETFROM:+0200
TZOFFSETTO:+0100
TZNAME:CET
DTSTART:20211031T010000
END:STANDARD
BEGIN:DAYLIGHT
TZOFFSETFROM:+0100
TZOFFSETTO:+0200
TZNAME:CEST
DTSTART:20220327T010000
END:DAYLIGHT
BEGIN:STANDARD
TZOFFSETFROM:+0200
TZOFFSETTO:+0100
TZNAME:CET
DTSTART:20221030T010000
END:STANDARD
END:VTIMEZONE
BEGIN:VEVENT
DTSTART;TZID=Europe/Berlin:20210503T150000
DTEND;TZID=Europe/Berlin:20210503T180000
DTSTAMP:20260426T002333
CREATED:20210428T090921Z
LAST-MODIFIED:20210429T152901Z
UID:5364-1620054000-1620064800@nexthealth.de
SUMMARY:Dr. med. Stefan Drauschke und Ulrich Pieper mit der GÃ–K Consulting GmbH als LÃ¶sungspartner fÃ¼r Digitalisierung beim Smart Hospital Panel
DESCRIPTION:Die Digitalisierung im Krankenhaus und das Krankenhauszukunftsgesetz sind derzeit wesentliche Themen im Krankenhausmarkt. Mit dem Smart Hospital Panel erhalten Sie alle Informationen hierzu sowie auch zu den FÃ¶rdermitteln\, die gegenwÃ¤rtig zu beantragen sind. \nDie GÃ–K CONSULTING GmbH hat sich u.a. auch hierauf spezialisiert\, die beiden GeschÃ¤ftsfÃ¼hrer\, Dr. Stefan Drauschke und Ulrich Pieper\, gehen mit ihrem Beitrag ca. um 16.00 hierauf ein. \nMelden Sie sich HIER kostenlos an und erfahren Sie mehrâ€¦ \nâ€¦und Ã¼brigens: die GÃ–K CONSULTING GmbH und die NEXTHEALTH GmbH begleiten bereits deutschlandweit Kliniken bei der Entwicklung von Digitalisierungsstrategien und bei der Erarbeitung von FÃ¶rderantrÃ¤gen im Rahmen des KHZG. Das Antragsverfahren und das Investitionsprogramm sind ein Teil dessenâ€¦Â  Medizin\, Prozessoptimierung und digitale Transformation sowie Cultural Change gehÃ¶ren unbedingt dazu. \n  \n  \n 
URL:https://nexthealth.de/veranstaltung/loesungspartner-fuer-das-khzg/
END:VEVENT
BEGIN:VEVENT
DTSTART;TZID=Europe/Berlin:20210503T150000
DTEND;TZID=Europe/Berlin:20210503T180000
DTSTAMP:20260426T002333
CREATED:20210428T090921Z
LAST-MODIFIED:20210428T090921Z
UID:11383-1620054000-1620064800@nexthealth.de
SUMMARY:Dr. med. Stefan Drauschke und Ulrich Pieper mit der GÃ–K Consulting GmbH als LÃ¶sungspartner fÃ¼r Digitalisierung beim Smart Hospital Panel
DESCRIPTION:Die Digitalisierung im Krankenhaus und das Krankenhauszukunftsgesetz sind derzeit wesentliche Themen im Krankenhausmarkt. Mit dem Smart Hospital Panel erhalten Sie alle Informationen hierzu sowie auch zu den FÃ¶rdermitteln\, die gegenwÃ¤rtig zu beantragen sind. \nDie GÃ–K CONSULTING GmbH hat sich u.a. auch hierauf spezialisiert\, die beiden GeschÃ¤ftsfÃ¼hrer\, Dr. Stefan Drauschke und Ulrich Pieper\, gehen mit ihrem Beitrag ca. um 16.00 hierauf ein. \nMelden Sie sich HIER kostenlos an und erfahren Sie mehrâ€¦ \nâ€¦und Ã¼brigens: die GÃ–K CONSULTING GmbH und die NEXTHEALTH GmbH begleiten bereits deutschlandweit Kliniken bei der Entwicklung von Digitalisierungsstrategien und bei der Erarbeitung von FÃ¶rderantrÃ¤gen im Rahmen des KHZG. Das Antragsverfahren und das Investitionsprogramm sind ein Teil dessenâ€¦Â  Medizin\, Prozessoptimierung und digitale Transformation sowie Cultural Change gehÃ¶ren unbedingt dazu. \n  \n  \n 
URL:https://nexthealth.de/veranstaltung/loesungspartner-fuer-das-khzg-2/
END:VEVENT
END:VCALENDAR