BEGIN:VCALENDAR
VERSION:2.0
PRODID:-//NextHealth – Veränderungsmanagement und Strategieentwicklung - ECPv6.15.13//NONSGML v1.0//EN
CALSCALE:GREGORIAN
METHOD:PUBLISH
X-WR-CALNAME:NextHealth – Veränderungsmanagement und Strategieentwicklung
X-ORIGINAL-URL:https://nexthealth.de
X-WR-CALDESC:Veranstaltungen für NextHealth – Veränderungsmanagement und Strategieentwicklung
REFRESH-INTERVAL;VALUE=DURATION:PT1H
X-Robots-Tag:noindex
X-PUBLISHED-TTL:PT1H
BEGIN:VTIMEZONE
TZID:Europe/Berlin
BEGIN:DAYLIGHT
TZOFFSETFROM:+0100
TZOFFSETTO:+0200
TZNAME:CEST
DTSTART:20210328T010000
END:DAYLIGHT
BEGIN:STANDARD
TZOFFSETFROM:+0200
TZOFFSETTO:+0100
TZNAME:CET
DTSTART:20211031T010000
END:STANDARD
BEGIN:DAYLIGHT
TZOFFSETFROM:+0100
TZOFFSETTO:+0200
TZNAME:CEST
DTSTART:20220327T010000
END:DAYLIGHT
BEGIN:STANDARD
TZOFFSETFROM:+0200
TZOFFSETTO:+0100
TZNAME:CET
DTSTART:20221030T010000
END:STANDARD
BEGIN:DAYLIGHT
TZOFFSETFROM:+0100
TZOFFSETTO:+0200
TZNAME:CEST
DTSTART:20230326T010000
END:DAYLIGHT
BEGIN:STANDARD
TZOFFSETFROM:+0200
TZOFFSETTO:+0100
TZNAME:CET
DTSTART:20231029T010000
END:STANDARD
END:VTIMEZONE
BEGIN:VEVENT
DTSTART;VALUE=DATE:20220409
DTEND;VALUE=DATE:20220413
DTSTAMP:20260425T052958
CREATED:20210428T131037Z
LAST-MODIFIED:20211207T090612Z
UID:5391-1649462400-1649807999@nexthealth.de
SUMMARY:Business Retreat
DESCRIPTION:Was können Sie tun\, um mehr Lebensbalance zu erlangen im körperlichen und geistigen Bereich? Wie können Sie besseren Zugang zu Ihren Ressourcen erlangen\, um mit guten Gefühlen bessere Entscheidungen zu treffen? \n \n\n\n\nBuchen Sie unseren 3-tägigen Business Retreat und stoßen Sie auf eigene\, tiefe und bedeutsame „Wahrheiten“\, welche erhebliche Auswirkungen auf Ihre weitere Wahrnehmung und Entwicklung\, Ihre eigenen Wirklichkeitskonstrukte und auf relevante Entscheidungen haben können. \n\n\n\nErfahren Sie mehr! \nZum Buchungsformular
URL:https://nexthealth.de/veranstaltung/business-retreat-5/
CATEGORIES:Retreat
END:VEVENT
BEGIN:VEVENT
DTSTART;VALUE=DATE:20220409
DTEND;VALUE=DATE:20220413
DTSTAMP:20260425T052958
CREATED:20210428T131037Z
LAST-MODIFIED:20210428T131037Z
UID:11384-1649462400-1649807999@nexthealth.de
SUMMARY:Business Retreat
DESCRIPTION:Was können Sie tun\, um mehr Lebensbalance zu erlangen im körperlichen und geistigen Bereich? Wie können Sie besseren Zugang zu Ihren Ressourcen erlangen\, um mit guten Gefühlen bessere Entscheidungen zu treffen? \n \n\n\n\nBuchen Sie unseren 3-tägigen Business Retreat und stoßen Sie auf eigene\, tiefe und bedeutsame „Wahrheiten“\, welche erhebliche Auswirkungen auf Ihre weitere Wahrnehmung und Entwicklung\, Ihre eigenen Wirklichkeitskonstrukte und auf relevante Entscheidungen haben können. \n\n\n\nErfahren Sie mehr! \nZum Buchungsformular
URL:https://nexthealth.de/veranstaltung/business-retreat-5-2/
CATEGORIES:Retreat
END:VEVENT
END:VCALENDAR