BEGIN:VCALENDAR
VERSION:2.0
PRODID:-//NextHealth – Veränderungsmanagement und Strategieentwicklung - ECPv6.15.13//NONSGML v1.0//EN
CALSCALE:GREGORIAN
METHOD:PUBLISH
X-WR-CALNAME:NextHealth – Veränderungsmanagement und Strategieentwicklung
X-ORIGINAL-URL:https://nexthealth.de
X-WR-CALDESC:Veranstaltungen für NextHealth – Veränderungsmanagement und Strategieentwicklung
REFRESH-INTERVAL;VALUE=DURATION:PT1H
X-Robots-Tag:noindex
X-PUBLISHED-TTL:PT1H
BEGIN:VTIMEZONE
TZID:Europe/Berlin
BEGIN:DAYLIGHT
TZOFFSETFROM:+0100
TZOFFSETTO:+0200
TZNAME:CEST
DTSTART:20210328T010000
END:DAYLIGHT
BEGIN:STANDARD
TZOFFSETFROM:+0200
TZOFFSETTO:+0100
TZNAME:CET
DTSTART:20211031T010000
END:STANDARD
BEGIN:DAYLIGHT
TZOFFSETFROM:+0100
TZOFFSETTO:+0200
TZNAME:CEST
DTSTART:20220327T010000
END:DAYLIGHT
BEGIN:STANDARD
TZOFFSETFROM:+0200
TZOFFSETTO:+0100
TZNAME:CET
DTSTART:20221030T010000
END:STANDARD
BEGIN:DAYLIGHT
TZOFFSETFROM:+0100
TZOFFSETTO:+0200
TZNAME:CEST
DTSTART:20230326T010000
END:DAYLIGHT
BEGIN:STANDARD
TZOFFSETFROM:+0200
TZOFFSETTO:+0100
TZNAME:CET
DTSTART:20231029T010000
END:STANDARD
END:VTIMEZONE
BEGIN:VEVENT
DTSTART;TZID=Europe/Berlin:20220518T124500
DTEND;TZID=Europe/Berlin:20220518T134500
DTSTAMP:20260425T035302
CREATED:20211206T080134Z
LAST-MODIFIED:20220420T064033Z
UID:5596-1652877900-1652881500@nexthealth.de
SUMMARY:Dr. med. Stefan Drauschke ist Moderator beim Entscheiderfabrik-Kongress zu Krankenhausführung und digitaler Transformation
DESCRIPTION:Herr Dr. med. Stefan Drauschke\, Geschäftsführer von GÖK Consulting GmbH und von NextHealth GmbH\, wird beim Entscheiderfabrik-Kongress zu Krankenhausführung und digitaler Transformation (​Health Information Management Executives Leadership Summit) in Bad Kreuznach ab 12:45 Uhr die Workshops-Einführungsrunde &#8222;Pitches zu den Schwerpunktthemen Workshops&#8220; moderieren. \nHier gelangen Sie zum Programm. \nHier gelangen Sie zur Veranstaltungsseite.
URL:https://nexthealth.de/veranstaltung/dr-med-stefan-drauschke-ist-moderator-beim-entscheiderfabrik-kongress-zu-krankenhausfuehrung-und-digitaler-transformation/
CATEGORIES:öffentliche Termine
END:VEVENT
BEGIN:VEVENT
DTSTART;TZID=Europe/Berlin:20220518T124500
DTEND;TZID=Europe/Berlin:20220518T134500
DTSTAMP:20260425T035302
CREATED:20211206T080134Z
LAST-MODIFIED:20211206T080134Z
UID:11390-1652877900-1652881500@nexthealth.de
SUMMARY:Dr. med. Stefan Drauschke ist Moderator beim Entscheiderfabrik-Kongress zu Krankenhausführung und digitaler Transformation
DESCRIPTION:Herr Dr. med. Stefan Drauschke\, Geschäftsführer von GÖK Consulting GmbH und von NextHealth GmbH\, wird beim Entscheiderfabrik-Kongress zu Krankenhausführung und digitaler Transformation (​Health Information Management Executives Leadership Summit) in Bad Kreuznach ab 12:45 Uhr die Workshops-Einführungsrunde &#8222;Pitches zu den Schwerpunktthemen Workshops&#8220; moderieren. \nHier gelangen Sie zum Programm. \nHier gelangen Sie zur Veranstaltungsseite.
URL:https://nexthealth.de/veranstaltung/dr-med-stefan-drauschke-ist-moderator-beim-entscheiderfabrik-kongress-zu-krankenhausfuehrung-und-digitaler-transformation-3/
CATEGORIES:öffentliche Termine
END:VEVENT
END:VCALENDAR