BEGIN:VCALENDAR
VERSION:2.0
PRODID:-//NextHealth â€“Â VerÃ¤nderungsmanagement und Strategieentwicklung - ECPv6.15.13//NONSGML v1.0//EN
CALSCALE:GREGORIAN
METHOD:PUBLISH
X-WR-CALNAME:NextHealth â€“Â VerÃ¤nderungsmanagement und Strategieentwicklung
X-ORIGINAL-URL:https://nexthealth.de
X-WR-CALDESC:Veranstaltungen fÃ¼r NextHealth â€“Â VerÃ¤nderungsmanagement und Strategieentwicklung
REFRESH-INTERVAL;VALUE=DURATION:PT1H
X-Robots-Tag:noindex
X-PUBLISHED-TTL:PT1H
BEGIN:VTIMEZONE
TZID:Europe/Berlin
BEGIN:DAYLIGHT
TZOFFSETFROM:+0100
TZOFFSETTO:+0200
TZNAME:CEST
DTSTART:20250330T010000
END:DAYLIGHT
BEGIN:STANDARD
TZOFFSETFROM:+0200
TZOFFSETTO:+0100
TZNAME:CET
DTSTART:20251026T010000
END:STANDARD
BEGIN:DAYLIGHT
TZOFFSETFROM:+0100
TZOFFSETTO:+0200
TZNAME:CEST
DTSTART:20260329T010000
END:DAYLIGHT
BEGIN:STANDARD
TZOFFSETFROM:+0200
TZOFFSETTO:+0100
TZNAME:CET
DTSTART:20261025T010000
END:STANDARD
BEGIN:DAYLIGHT
TZOFFSETFROM:+0100
TZOFFSETTO:+0200
TZNAME:CEST
DTSTART:20270328T010000
END:DAYLIGHT
BEGIN:STANDARD
TZOFFSETFROM:+0200
TZOFFSETTO:+0100
TZNAME:CET
DTSTART:20271031T010000
END:STANDARD
END:VTIMEZONE
BEGIN:VEVENT
DTSTART;VALUE=DATE:20261023
DTEND;VALUE=DATE:20261027
DTSTAMP:20260422T225357
CREATED:20260123T090427Z
LAST-MODIFIED:20260123T090427Z
UID:12029-1792713600-1793059199@nexthealth.de
SUMMARY:Business Retreat
DESCRIPTION:Was kÃ¶nnen Sie tun\, um mehr Lebensbalance zu erlangen im kÃ¶rperlichen und geistigen Bereich? Wie kÃ¶nnen Sie besseren Zugang zu Ihren Ressourcen erlangen\, um mit guten GefÃ¼hlen bessere Entscheidungen zu treffen? \nBuchen Sie unseren 3-tÃ¤gigen Business Retreat und stoÃŸen Sie auf eigene\, tiefe und bedeutsame â€žWahrheitenâ€œ\, welche erhebliche Auswirkungen auf Ihre weitere Wahrnehmung und Entwicklung\, Ihre eigenen Wirklichkeitskonstrukte und auf relevante Entscheidungen haben kÃ¶nnen. \n  \nErfahren Sie mehr! \n 
URL:https://nexthealth.de/veranstaltung/business-retreat-13/
LOCATION:Paulinenhof\, Kuhlowitzer DorfstraÃŸe 1\, Bad Belzig\, 14806
CATEGORIES:Retreat
END:VEVENT
END:VCALENDAR