BEGIN:VCALENDAR
VERSION:2.0
PRODID:-//NextHealth – Veränderungsmanagement und Strategieentwicklung - ECPv6.15.13//NONSGML v1.0//EN
CALSCALE:GREGORIAN
METHOD:PUBLISH
X-WR-CALNAME:NextHealth – Veränderungsmanagement und Strategieentwicklung
X-ORIGINAL-URL:https://nexthealth.de
X-WR-CALDESC:Veranstaltungen für NextHealth – Veränderungsmanagement und Strategieentwicklung
REFRESH-INTERVAL;VALUE=DURATION:PT1H
X-Robots-Tag:noindex
X-PUBLISHED-TTL:PT1H
BEGIN:VTIMEZONE
TZID:Europe/Berlin
BEGIN:DAYLIGHT
TZOFFSETFROM:+0100
TZOFFSETTO:+0200
TZNAME:CEST
DTSTART:20200329T010000
END:DAYLIGHT
BEGIN:STANDARD
TZOFFSETFROM:+0200
TZOFFSETTO:+0100
TZNAME:CET
DTSTART:20201025T010000
END:STANDARD
BEGIN:DAYLIGHT
TZOFFSETFROM:+0100
TZOFFSETTO:+0200
TZNAME:CEST
DTSTART:20210328T010000
END:DAYLIGHT
BEGIN:STANDARD
TZOFFSETFROM:+0200
TZOFFSETTO:+0100
TZNAME:CET
DTSTART:20211031T010000
END:STANDARD
BEGIN:DAYLIGHT
TZOFFSETFROM:+0100
TZOFFSETTO:+0200
TZNAME:CEST
DTSTART:20220327T010000
END:DAYLIGHT
BEGIN:STANDARD
TZOFFSETFROM:+0200
TZOFFSETTO:+0100
TZNAME:CET
DTSTART:20221030T010000
END:STANDARD
END:VTIMEZONE
BEGIN:VEVENT
DTSTART;TZID=Europe/Berlin:20210120T114500
DTEND;TZID=Europe/Berlin:20210120T131500
DTSTAMP:20260426T051539
CREATED:20201015T080740Z
LAST-MODIFIED:20201221T110200Z
UID:4555-1611143100-1611148500@nexthealth.de
SUMMARY:Dr. Stefan Drauschke hält einen Vortrag auf dem BMC-Kongress 2021
DESCRIPTION:Am 19. und 20. Januar 2021 findet der Kongress in Berlin sowie auch digital statt. Das Progamm des BMC-Kongresses beinhaltet Themen wie innovative Versorgungsansätze\, Digital Health\, interprofessionale Zusammenarbeit und neue Perspektiven im Gesundheitswesen. Zu dem Forum “Digitalisierung der Krankenhauslandschaft” hält Dr. Stefan Drauschke\, Geschäftsführer der NextHealth und GÖK Consulting\, den Vortrag “Von der Unternehmensstrategie zur Digitalstrategie zu IT-Strategie”. \nMehr zum Forum &#8222;Digitalisierung der Krankenhauslandschaft&#8220; \nAlle Informationen zum BMC-Kongress 2021
URL:https://nexthealth.de/veranstaltung/dr-stefan-drauschke-haelt-einen-vortrag-auf-dem-bmc-kongress-2021/
CATEGORIES:öffentliche Termine
END:VEVENT
BEGIN:VEVENT
DTSTART;TZID=Europe/Berlin:20210120T114500
DTEND;TZID=Europe/Berlin:20210120T131500
DTSTAMP:20260426T051539
CREATED:20201015T080740Z
LAST-MODIFIED:20201015T080740Z
UID:11373-1611143100-1611148500@nexthealth.de
SUMMARY:Dr. Stefan Drauschke hält einen Vortrag auf dem BMC-Kongress 2021
DESCRIPTION:Am 19. und 20. Januar 2021 findet der Kongress in Berlin sowie auch digital statt. Das Progamm des BMC-Kongresses beinhaltet Themen wie innovative Versorgungsansätze\, Digital Health\, interprofessionale Zusammenarbeit und neue Perspektiven im Gesundheitswesen. Zu dem Forum “Digitalisierung der Krankenhauslandschaft” hält Dr. Stefan Drauschke\, Geschäftsführer der NextHealth und GÖK Consulting\, den Vortrag “Von der Unternehmensstrategie zur Digitalstrategie zu IT-Strategie”. \nMehr zum Forum &#8222;Digitalisierung der Krankenhauslandschaft&#8220; \nAlle Informationen zum BMC-Kongress 2021
URL:https://nexthealth.de/veranstaltung/dr-stefan-drauschke-haelt-einen-vortrag-auf-dem-bmc-kongress-2021-2/
CATEGORIES:öffentliche Termine
END:VEVENT
END:VCALENDAR