BEGIN:VCALENDAR
VERSION:2.0
PRODID:-//NextHealth – Veränderungsmanagement und Strategieentwicklung - ECPv6.15.13//NONSGML v1.0//EN
CALSCALE:GREGORIAN
METHOD:PUBLISH
X-ORIGINAL-URL:https://nexthealth.de
X-WR-CALDESC:Veranstaltungen für NextHealth – Veränderungsmanagement und Strategieentwicklung
REFRESH-INTERVAL;VALUE=DURATION:PT1H
X-Robots-Tag:noindex
X-PUBLISHED-TTL:PT1H
BEGIN:VTIMEZONE
TZID:Europe/Berlin
BEGIN:DAYLIGHT
TZOFFSETFROM:+0100
TZOFFSETTO:+0200
TZNAME:CEST
DTSTART:20200329T010000
END:DAYLIGHT
BEGIN:STANDARD
TZOFFSETFROM:+0200
TZOFFSETTO:+0100
TZNAME:CET
DTSTART:20201025T010000
END:STANDARD
BEGIN:DAYLIGHT
TZOFFSETFROM:+0100
TZOFFSETTO:+0200
TZNAME:CEST
DTSTART:20210328T010000
END:DAYLIGHT
BEGIN:STANDARD
TZOFFSETFROM:+0200
TZOFFSETTO:+0100
TZNAME:CET
DTSTART:20211031T010000
END:STANDARD
BEGIN:DAYLIGHT
TZOFFSETFROM:+0100
TZOFFSETTO:+0200
TZNAME:CEST
DTSTART:20220327T010000
END:DAYLIGHT
BEGIN:STANDARD
TZOFFSETFROM:+0200
TZOFFSETTO:+0100
TZNAME:CET
DTSTART:20221030T010000
END:STANDARD
END:VTIMEZONE
BEGIN:VEVENT
DTSTART;TZID=Europe/Berlin:20210503T150000
DTEND;TZID=Europe/Berlin:20210503T180000
DTSTAMP:20260425T223646
CREATED:20210428T090921Z
LAST-MODIFIED:20210429T152901Z
UID:5364-1620054000-1620064800@nexthealth.de
SUMMARY:Dr. med. Stefan Drauschke und Ulrich Pieper mit der GÖK Consulting GmbH als Lösungspartner für Digitalisierung beim Smart Hospital Panel
DESCRIPTION:Die Digitalisierung im Krankenhaus und das Krankenhauszukunftsgesetz sind derzeit wesentliche Themen im Krankenhausmarkt. Mit dem Smart Hospital Panel erhalten Sie alle Informationen hierzu sowie auch zu den Fördermitteln\, die gegenwärtig zu beantragen sind. \nDie GÖK CONSULTING GmbH hat sich u.a. auch hierauf spezialisiert\, die beiden Geschäftsführer\, Dr. Stefan Drauschke und Ulrich Pieper\, gehen mit ihrem Beitrag ca. um 16.00 hierauf ein. \nMelden Sie sich HIER kostenlos an und erfahren Sie mehr… \n…und übrigens: die GÖK CONSULTING GmbH und die NEXTHEALTH GmbH begleiten bereits deutschlandweit Kliniken bei der Entwicklung von Digitalisierungsstrategien und bei der Erarbeitung von Förderanträgen im Rahmen des KHZG. Das Antragsverfahren und das Investitionsprogramm sind ein Teil dessen…  Medizin\, Prozessoptimierung und digitale Transformation sowie Cultural Change gehören unbedingt dazu. \n \n \n
URL:https://nexthealth.de/veranstaltung/loesungspartner-fuer-das-khzg/
END:VEVENT
BEGIN:VEVENT
DTSTART;TZID=Europe/Berlin:20210503T150000
DTEND;TZID=Europe/Berlin:20210503T180000
DTSTAMP:20260425T223646
CREATED:20210428T090921Z
LAST-MODIFIED:20210428T090921Z
UID:11383-1620054000-1620064800@nexthealth.de
SUMMARY:Dr. med. Stefan Drauschke und Ulrich Pieper mit der GÖK Consulting GmbH als Lösungspartner für Digitalisierung beim Smart Hospital Panel
DESCRIPTION:Die Digitalisierung im Krankenhaus und das Krankenhauszukunftsgesetz sind derzeit wesentliche Themen im Krankenhausmarkt. Mit dem Smart Hospital Panel erhalten Sie alle Informationen hierzu sowie auch zu den Fördermitteln\, die gegenwärtig zu beantragen sind. \nDie GÖK CONSULTING GmbH hat sich u.a. auch hierauf spezialisiert\, die beiden Geschäftsführer\, Dr. Stefan Drauschke und Ulrich Pieper\, gehen mit ihrem Beitrag ca. um 16.00 hierauf ein. \nMelden Sie sich HIER kostenlos an und erfahren Sie mehr… \n…und übrigens: die GÖK CONSULTING GmbH und die NEXTHEALTH GmbH begleiten bereits deutschlandweit Kliniken bei der Entwicklung von Digitalisierungsstrategien und bei der Erarbeitung von Förderanträgen im Rahmen des KHZG. Das Antragsverfahren und das Investitionsprogramm sind ein Teil dessen…  Medizin\, Prozessoptimierung und digitale Transformation sowie Cultural Change gehören unbedingt dazu. \n \n \n
URL:https://nexthealth.de/veranstaltung/loesungspartner-fuer-das-khzg-2/
END:VEVENT
BEGIN:VEVENT
DTSTART;TZID=Europe/Berlin:20210519T124500
DTEND;TZID=Europe/Berlin:20210519T164500
DTSTAMP:20260425T223646
CREATED:20210309T075359Z
LAST-MODIFIED:20210309T083917Z
UID:5288-1621428300-1621442700@nexthealth.de
SUMMARY:Dr. med. Stefan Drauschke ist Moderator beim Entscheiderfabrik-Kongress zu Krankenhausführung und digitaler Transformation - Health Information Executives Leadership Summit
DESCRIPTION:Durch die Corona-Pandemie hat die Digitalisierung in Krankenhäusern nicht nur an Wichtigkeit zugenommen\, sondern auch an Tempo und Dringlichkeit. Wir begleiten mit der GÖK Consulting Krankenhäuser im Prozess der digitalen Transformation und der Antragstellung nach KHZG\, wobei die NextHealth als Schwestergesellschaft das Changemanagement und den Cultural Change Prozess verantwortet.\nDie Herausforderungen der digitalen Transformation sind Gegenstand von acht Themenworkshops auf dem Entscheiderfabrik-Kongress. Dr. med. Stefan Drauschke führt am 19.05.2021 ab 12:45 Uhr in die Workshops mit acht Schwerpunktthemen ein zum übergeordneten Thema „Transforming Healthcare in disruptive Time &#8211; strategic Health Information Management“. \n \n \nHier gelangen Sie zur Veranstaltungsseite.\nLesen Sie passend zu dem Kongress den Artikel „Von der Unternehmensstrategie zur Digitalisierung“.\n
URL:https://nexthealth.de/veranstaltung/entscheiderfabrik-kongress/
END:VEVENT
BEGIN:VEVENT
DTSTART;TZID=Europe/Berlin:20210519T124500
DTEND;TZID=Europe/Berlin:20210519T164500
DTSTAMP:20260425T223646
CREATED:20210309T075359Z
LAST-MODIFIED:20210309T075359Z
UID:11379-1621428300-1621442700@nexthealth.de
SUMMARY:Dr. med. Stefan Drauschke ist Moderator beim Entscheiderfabrik-Kongress zu Krankenhausführung und digitaler Transformation - Health Information Executives Leadership Summit
DESCRIPTION:Durch die Corona-Pandemie hat die Digitalisierung in Krankenhäusern nicht nur an Wichtigkeit zugenommen\, sondern auch an Tempo und Dringlichkeit. Wir begleiten mit der GÖK Consulting Krankenhäuser im Prozess der digitalen Transformation und der Antragstellung nach KHZG\, wobei die NextHealth als Schwestergesellschaft das Changemanagement und den Cultural Change Prozess verantwortet.\nDie Herausforderungen der digitalen Transformation sind Gegenstand von acht Themenworkshops auf dem Entscheiderfabrik-Kongress. Dr. med. Stefan Drauschke führt am 19.05.2021 ab 12:45 Uhr in die Workshops mit acht Schwerpunktthemen ein zum übergeordneten Thema „Transforming Healthcare in disruptive Time &#8211; strategic Health Information Management“. \n \n \nHier gelangen Sie zur Veranstaltungsseite.\nLesen Sie passend zu dem Kongress den Artikel „Von der Unternehmensstrategie zur Digitalisierung“.\n
URL:https://nexthealth.de/veranstaltung/entscheiderfabrik-kongress-2/
END:VEVENT
BEGIN:VEVENT
DTSTART;TZID=Europe/Berlin:20210520T173000
DTEND;TZID=Europe/Berlin:20210520T191500
DTSTAMP:20260425T223646
CREATED:20210429T071827Z
LAST-MODIFIED:20210429T101545Z
UID:5408-1621531800-1621538100@nexthealth.de
SUMMARY:25. Symposium – 2. Health Care Management-Webkonferenz
DESCRIPTION:Nach dem letzten Schwerpunktthema “Herausforderung 2021: Wie Sie das Jahr erfolgreich gestalten und strategische Weichen richtig stellen” liegt dieses Mal der Fokus auf den Mitarbeiter*innen und Patient*innen. Für eine erfolgreiche und wirksame Umsetzung der Digitalstrategie müssen alle Betroffene die Veränderung mittragen. Die Begleitung von Veränderungsprozessen im Gesundheitswesen ist eines der Spezialgebiete der NextHealth.  Dr. med. Stefan Drauschke\, Geschäftsführer der NextHealth und der GÖK Consulting GmbH\, übernimmt gerne die Zusammenfassung der Vorträge und die Moderation der Diskussion der Webkonferenz mit einem Fazit und einem Ausblick. \n \nHIER erfahren Sie Weiteres über die Konferenz und/oder können Sie sich kostenpflichtig anmelden. \nGerne beraten wir Sie auch persönlich. Schreiben Sie uns dafür per Mail unter info@b3w8yy.myraidbox.de oder rufen Sie uns an 030 – 351 99 603.
URL:https://nexthealth.de/veranstaltung/25-symposium-2-health-care-management-webkonferenz/
CATEGORIES:öffentliche Termine
END:VEVENT
BEGIN:VEVENT
DTSTART;TZID=Europe/Berlin:20210520T173000
DTEND;TZID=Europe/Berlin:20210520T191500
DTSTAMP:20260425T223646
CREATED:20210429T071827Z
LAST-MODIFIED:20210429T071827Z
UID:11386-1621531800-1621538100@nexthealth.de
SUMMARY:25. Symposium – 2. Health Care Management-Webkonferenz
DESCRIPTION:Nach dem letzten Schwerpunktthema “Herausforderung 2021: Wie Sie das Jahr erfolgreich gestalten und strategische Weichen richtig stellen” liegt dieses Mal der Fokus auf den Mitarbeiter*innen und Patient*innen. Für eine erfolgreiche und wirksame Umsetzung der Digitalstrategie müssen alle Betroffene die Veränderung mittragen. Die Begleitung von Veränderungsprozessen im Gesundheitswesen ist eines der Spezialgebiete der NextHealth.  Dr. med. Stefan Drauschke\, Geschäftsführer der NextHealth und der GÖK Consulting GmbH\, übernimmt gerne die Zusammenfassung der Vorträge und die Moderation der Diskussion der Webkonferenz mit einem Fazit und einem Ausblick. \n \nHIER erfahren Sie Weiteres über die Konferenz und/oder können Sie sich kostenpflichtig anmelden. \nGerne beraten wir Sie auch persönlich. Schreiben Sie uns dafür per Mail unter info@nexthealth.de oder rufen Sie uns an 030 – 351 99 603.
URL:https://nexthealth.de/veranstaltung/25-symposium-2-health-care-management-webkonferenz-2/
CATEGORIES:öffentliche Termine
END:VEVENT
END:VCALENDAR