BEGIN:VCALENDAR
VERSION:2.0
PRODID:-//NextHealth – Veränderungsmanagement und Strategieentwicklung - ECPv6.15.13//NONSGML v1.0//EN
CALSCALE:GREGORIAN
METHOD:PUBLISH
X-WR-CALNAME:NextHealth – Veränderungsmanagement und Strategieentwicklung
X-ORIGINAL-URL:https://nexthealth.de
X-WR-CALDESC:Veranstaltungen für NextHealth – Veränderungsmanagement und Strategieentwicklung
REFRESH-INTERVAL;VALUE=DURATION:PT1H
X-Robots-Tag:noindex
X-PUBLISHED-TTL:PT1H
BEGIN:VTIMEZONE
TZID:Europe/Berlin
BEGIN:DAYLIGHT
TZOFFSETFROM:+0100
TZOFFSETTO:+0200
TZNAME:CEST
DTSTART:20200329T010000
END:DAYLIGHT
BEGIN:STANDARD
TZOFFSETFROM:+0200
TZOFFSETTO:+0100
TZNAME:CET
DTSTART:20201025T010000
END:STANDARD
BEGIN:DAYLIGHT
TZOFFSETFROM:+0100
TZOFFSETTO:+0200
TZNAME:CEST
DTSTART:20210328T010000
END:DAYLIGHT
BEGIN:STANDARD
TZOFFSETFROM:+0200
TZOFFSETTO:+0100
TZNAME:CET
DTSTART:20211031T010000
END:STANDARD
BEGIN:DAYLIGHT
TZOFFSETFROM:+0100
TZOFFSETTO:+0200
TZNAME:CEST
DTSTART:20220327T010000
END:DAYLIGHT
BEGIN:STANDARD
TZOFFSETFROM:+0200
TZOFFSETTO:+0100
TZNAME:CET
DTSTART:20221030T010000
END:STANDARD
END:VTIMEZONE
BEGIN:VEVENT
DTSTART;TZID=Europe/Berlin:20210922T140000
DTEND;TZID=Europe/Berlin:20210922T153000
DTSTAMP:20260425T154245
CREATED:20210903T074345Z
LAST-MODIFIED:20210903T074722Z
UID:5478-1632319200-1632324600@nexthealth.de
SUMMARY:Dr. Stefan Drauschke ist aktiver Teilnehmer des Gesundheitswirtschaftskongresses 2021
DESCRIPTION:Am 22.09.2021 nimmt Herr Dr. Stefan Drauschke\, Geschäftsführer von GÖK Consulting GmbH und von NextHealth GmbH an der Podiumsdiskussion „Ambulanter Medizin gehört die Zukunft: Können Krankenhäuser mitmischen?“ teil\, welche von 14.00 bis 15:30 Uhr im Rahmen des 16. Gesundheitswirtschaftskongresses in Hamburg stattfindet.\nDer Kongress greift die aktuellen Themen auf\, die die Zukunft dieses bedeutenden Wirtschaftsbereichs bestimmen werden. Trends und Entwicklungen werden vorgetragen\, diskutiert und publiziert. Vom Kongress gehen deshalb Jahr für Jahr wichtige Impulse für die weitere öffentliche Diskussion aus. \nAn diesem Tag gibt es auch die Möglichkeit mit einem persönlichen Austausch mit Herrn Dr. Drauschke zu aktuellen Themen im Gesundheitswesen. Zu einer Terminvereinbarung gelangen sie HIER. \nHIER gelangen Sie zur Anmeldung und weiteren Informationen.
URL:https://nexthealth.de/veranstaltung/dr-stefan-drauschke-ist-teilnehmer-des-gesundheitswirtschaftskongresses-2021/
CATEGORIES:öffentliche Termine
END:VEVENT
BEGIN:VEVENT
DTSTART;TZID=Europe/Berlin:20210922T140000
DTEND;TZID=Europe/Berlin:20210922T153000
DTSTAMP:20260425T154245
CREATED:20210903T074345Z
LAST-MODIFIED:20210903T074345Z
UID:11387-1632319200-1632324600@nexthealth.de
SUMMARY:Dr. Stefan Drauschke ist aktiver Teilnehmer des Gesundheitswirtschaftskongresses 2021
DESCRIPTION:Am 22.09.2021 nimmt Herr Dr. Stefan Drauschke\, Geschäftsführer von GÖK Consulting GmbH und von NextHealth GmbH an der Podiumsdiskussion „Ambulanter Medizin gehört die Zukunft: Können Krankenhäuser mitmischen?“ teil\, welche von 14.00 bis 15:30 Uhr im Rahmen des 16. Gesundheitswirtschaftskongresses in Hamburg stattfindet.\nDer Kongress greift die aktuellen Themen auf\, die die Zukunft dieses bedeutenden Wirtschaftsbereichs bestimmen werden. Trends und Entwicklungen werden vorgetragen\, diskutiert und publiziert. Vom Kongress gehen deshalb Jahr für Jahr wichtige Impulse für die weitere öffentliche Diskussion aus. \nAn diesem Tag gibt es auch die Möglichkeit mit einem persönlichen Austausch mit Herrn Dr. Drauschke zu aktuellen Themen im Gesundheitswesen. Zu einer Terminvereinbarung gelangen sie HIER. \nHIER gelangen Sie zur Anmeldung und weiteren Informationen.
URL:https://nexthealth.de/veranstaltung/dr-stefan-drauschke-ist-teilnehmer-des-gesundheitswirtschaftskongresses-2021-2/
CATEGORIES:öffentliche Termine
END:VEVENT
END:VCALENDAR